BEGIN:VCALENDAR
VERSION:2.0
PRODID:icalendar-ruby
CALSCALE:GREGORIAN
METHOD:PUBLISH
BEGIN:VEVENT
DTSTAMP:20260420T032144Z
UID:248-183355@thewestsidechurch.com
DTSTART;VALUE=DATE:20260422
DTEND;VALUE=DATE:20260422
CLASS:PUBLIC
CREATED:20260419T134913
DESCRIPTION:The entrance to the parking lot is to the left of the building.
LAST-MODIFIED:20260419T134913
LOCATION:Temple Akiba\, 5249 Sepulveda Blvd. Culver City\, CA 90230
SUMMARY:All-Westside Midweek 7:30 PM!
URL;VALUE=URI:https://thewestsidechurch.com/events/all-westside-midweek-7-3
 0-pm/2026-04-22
ATTACH;FILENAME=Midweek New Venue_2025_Logo.jpg;FMTTYPE=image/jpeg:https://
 dq5pwpg1q8ru0.cloudfront.net/2026/01/25/18/40/11/a8d777b5-f32b-407d-b539-d
 61cfb7c8ef5/Midweek%20New%20Venue_2025_Logo.jpg
END:VEVENT
END:VCALENDAR
