BEGIN:VCALENDAR
VERSION:2.0
PRODID:icalendar-ruby
CALSCALE:GREGORIAN
METHOD:PUBLISH
BEGIN:VEVENT
DTSTAMP:20260422T103222Z
UID:248-183799@thewestsidechurch.com
DTSTART;VALUE=DATE:20260617
DTEND;VALUE=DATE:20260617
CLASS:PUBLIC
CREATED:20260421T151500
DESCRIPTION:Temple Akiba\, 5249 Sepulveda Blvd. Culver City\, CA 90230\nThe
  entrance to the parking lot is to the left of the building.
LAST-MODIFIED:20260421T151500
LOCATION:Temple Akiba\, 5249 Sepulveda Blvd. Culver City\, CA 90230
SUMMARY:All-Westside Midweek 7:30 PM!
URL;VALUE=URI:https://thewestsidechurch.com/events/all-westside-midweek-7-3
 0-pm/2026-06-17
ATTACH;FILENAME=Temple Akiba Midweek.jpg;FMTTYPE=image/jpeg:https://dq5pwpg
 1q8ru0.cloudfront.net/2026/04/21/22/13/59/f74f8456-8694-4325-bdda-917e686e
 e281/Temple%20Akiba%20Midweek.jpg
END:VEVENT
END:VCALENDAR
