BEGIN:VCALENDAR
VERSION:2.0
PRODID:icalendar-ruby
CALSCALE:GREGORIAN
METHOD:PUBLISH
BEGIN:VEVENT
DTSTAMP:20260420T032144Z
UID:304-183391@thewestsidechurch.com
DTSTART:20260507T013000Z
DTEND:20260509T040000Z
CLASS:PUBLIC
CREATED:20260419T172416
DESCRIPTION:4 Amazing Days of Worship\, Fellowship\, Learning &amp\; Relaxi
 ng in Malibu at Pepperdine University!\n\n\n\n\nLocation\n\n\n\n\nFireston
 e Fieldhouse\, 24225 Pacific Coast Hwy\, Malibu\, CA 90265\, USA
LAST-MODIFIED:20260419T172416
LOCATION:Firestone Fieldhouse\, 24225 Pacific Coast Hwy\, Malibu\, CA 90265
 \, USA
SUMMARY:HARBOR conference at Pepperdine
URL;VALUE=URI:https://thewestsidechurch.com/events/harbor-conference-at-pep
 perdine/2026-05-06
ATTACH;FILENAME=Harbor Event_2026.jpeg;FMTTYPE=image/jpeg:https://dq5pwpg1q
 8ru0.cloudfront.net/2026/04/19/20/47/34/67baf9f7-83a3-41ba-b269-53e2513334
 0f/Harbor%20Event_2026.jpeg
ATTACH;FILENAME=Screenshot 2026-04-19 at 1.39.02 PM.png;FMTTYPE=image/png
 :https://dq5pwpg1q8ru0.cloudfront.net/2026/04/20/00/24/15/e6ccebcf-d1c9-48
 57-a9cf-3d7cd8d09929/Screenshot%202026-04-19%20at%201.39.02%E2%80%AFPM.png
END:VEVENT
END:VCALENDAR
